BEGIN:VCALENDAR
PRODID:-//HH//NONSGML Cascade Server//EN
VERSION:2.0
X-WR-CALNAME:Veteran & Military Affairs Presents the Military-Affiliated Student Succes
s Conference
X-WR-TIMEZONE:America/New_York
X-WR-CALDESC:
BEGIN:VTIMEZONE
TZID:America/New_York
BEGIN:DAYLIGHT
TZOFFSETFROM:-0500
TZOFFSETTO:-0400
TZNAME:EDT
DTSTART:19700308T020000
RRULE:FREQ=YEARLY;BYMONTH=3;BYDAY=2SU
END:DAYLIGHT
BEGIN:STANDARD
TZOFFSETFROM:-0400
TZOFFSETTO:-0500
TZNAME:EST
DTSTART:19701101T020000
RRULE:FREQ=YEARLY;BYMONTH=11;BYDAY=1SU
END:STANDARD
END:VTIMEZONE
BEGIN:VEVENT
DTSTART:20260427T083000
DTEND:20260427T153000
DTSTAMP:20260423T224154
UID:b5d0b11e9804d33a774adfa2bcb6d001
CREATED:20260422T113046
DESCRIPTION:This full-day conference is designed to strengthen institution
al capacity to support military-affiliated students through cross-campus c
ollaboration\, shared learning\, and coordinated service delivery.
LAST-MODIFIED:20260422T113046
LOCATION:Deese Ballroom\, Student Center
SEQUENCE:0
STATUS:CONFIRMED
SUMMARY:Veteran & Military Affairs Presents the Military-Affiliated Studen
t Success Conference
TRANSP:OPAQUE
END:VEVENT
BEGIN:VEVENT
DTSTART:20260427T083000
DTEND:20260427T153000
DTSTAMP:20260423T224154
UID:b5d0b11e9804d33a774adfa2bcb6d001
CREATED:20260422T113046
DESCRIPTION:This full-day conference is designed to strengthen institution
al capacity to support military-affiliated students through cross-campus c
ollaboration\, shared learning\, and coordinated service delivery.
LAST-MODIFIED:20260422T113046
LOCATION:Deese Ballroom\, Student Center
SEQUENCE:0
STATUS:CONFIRMED
SUMMARY:Veteran & Military Affairs Presents the Military-Affiliated Studen
t Success Conference
TRANSP:OPAQUE
END:VEVENT
END:VCALENDAR
# <pass-through></pass-through>